BEGIN:VCALENDAR
VERSION:2.0
PRODID:-//CTNAELA - ECPv4.4.4//NONSGML v1.0//EN
CALSCALE:GREGORIAN
METHOD:PUBLISH
X-WR-CALNAME:CTNAELA
X-ORIGINAL-URL:https://www.ctnaela.org
X-WR-CALDESC:Events for CTNAELA
BEGIN:VEVENT
DTSTART;VALUE=DATE:20181115
DTEND;VALUE=DATE:20181117
DTSTAMP:20260419T140931
CREATED:20180911T162446Z
LAST-MODIFIED:20180911T162446Z
UID:2882-1542240000-1542499199@www.ctnaela.org
SUMMARY:2018 NAELA SUMMIT
DESCRIPTION:\n For 30 years\, NAELA has provided Elder and Special Needs Law professionals an unparalleled opportunity to learn\, discover\, and succeed in the field. NAELA members and speakers have helped define this area of law and at this year’s Summit you'll sharpen the skills and knowledge you need to excel in your practice. Plan to join us this November at the Fairmont Chicago Millennium Park Hotel in Chicago where the IL Chapter UnProgram and Advanced Elder Law Review programs will also be offered. \n\n\nQuestions About This Event? Please Contact:  Pam Yanni can be emailed at pyanni@naela.org \n\n\nImportant Information:  Note - Email with link to session materials and program updates will be sent in early November. \n\nTO REGISTER GO TO https://www.naela.org/store/events/registration.aspx?event=2018SUMT
URL:https://www.ctnaela.org/event/2018-naela-summit/
END:VEVENT
END:VCALENDAR