BEGIN:VCALENDAR
VERSION:2.0
PRODID:-//CTNAELA - ECPv4.4.4//NONSGML v1.0//EN
CALSCALE:GREGORIAN
METHOD:PUBLISH
X-WR-CALNAME:CTNAELA
X-ORIGINAL-URL:https://www.ctnaela.org
X-WR-CALDESC:Events for CTNAELA
BEGIN:VEVENT
DTSTART;TZID=UTC+0:20190109T090000
DTEND;TZID=UTC+0:20190109T100000
DTSTAMP:20260425T144352
CREATED:20180911T160038Z
LAST-MODIFIED:20180911T160038Z
UID:2868-1547024400-1547028000@www.ctnaela.org
SUMMARY:CT NAELA Board Meeting
DESCRIPTION:
URL:https://www.ctnaela.org/event/ct-naela-board-meeting-32/
END:VEVENT
END:VCALENDAR