BEGIN:VCALENDAR
VERSION:2.0
PRODID:-//CTNAELA - ECPv4.4.4//NONSGML v1.0//EN
CALSCALE:GREGORIAN
METHOD:PUBLISH
X-WR-CALNAME:CTNAELA
X-ORIGINAL-URL:https://www.ctnaela.org
X-WR-CALDESC:Events for CTNAELA
BEGIN:VEVENT
DTSTART;TZID=UTC+0:20201013T090000
DTEND;TZID=UTC+0:20201013T100000
DTSTAMP:20260426T033809
CREATED:20200914T165605Z
LAST-MODIFIED:20200914T165605Z
UID:3244-1602579600-1602583200@www.ctnaela.org
SUMMARY:CT NAELA Board of Directors Meeting
DESCRIPTION:CT NAELA Board of Directors Meeting
URL:https://www.ctnaela.org/event/ct-naela-board-of-directors-meeting-13/
END:VEVENT
END:VCALENDAR