BEGIN:VCALENDAR
VERSION:2.0
PRODID:-//CTNAELA - ECPv4.4.4//NONSGML v1.0//EN
CALSCALE:GREGORIAN
METHOD:PUBLISH
X-WR-CALNAME:CTNAELA
X-ORIGINAL-URL:https://www.ctnaela.org
X-WR-CALDESC:Events for CTNAELA
BEGIN:VEVENT
DTSTART;TZID=UTC+0:20190614T090000
DTEND;TZID=UTC+0:20190614T110000
DTSTAMP:20260425T200219
CREATED:20190516T153502Z
LAST-MODIFIED:20190604T182009Z
UID:2957-1560502800-1560510000@www.ctnaela.org
SUMMARY:CT NAELA ANNUAL MEETING
DESCRIPTION:Join CT NAELA for its annual meeting on June 14\, 2019\, at from 9:00 to 11:00 a.m.\, at Elim Park\, 140 Cook Hill Road in Cheshire\, for the election of officers and Board Members for 2019-2020 and a recap of the legislative session with Michael Johnson of Sullivan & LeShane.  Click here to download the registration form.
URL:https://www.ctnaela.org/event/save-the-date-ct-naela-annual-meeting/
LOCATION:140 Cook Hill Road\, Cheshire\, CT\, United States
END:VEVENT
END:VCALENDAR